BEGIN:VCALENDAR
VERSION:2.0
PRODID:-//serbski-kucik.de - ECPv4.9.14//NONSGML v1.0//EN
CALSCALE:GREGORIAN
METHOD:PUBLISH
X-WR-CALNAME:serbski-kucik.de
X-ORIGINAL-URL:https://serbski-kucik.de
X-WR-CALDESC:Veranstaltungen für serbski-kucik.de
BEGIN:VTIMEZONE
TZID:Europe/Berlin
BEGIN:DAYLIGHT
TZOFFSETFROM:+0100
TZOFFSETTO:+0200
TZNAME:CEST
DTSTART:20200329T010000
END:DAYLIGHT
BEGIN:STANDARD
TZOFFSETFROM:+0200
TZOFFSETTO:+0100
TZNAME:CET
DTSTART:20201025T010000
END:STANDARD
END:VTIMEZONE
BEGIN:VEVENT
DTSTART;TZID=Europe/Berlin:20200926T193000
DTEND;TZID=Europe/Berlin:20200926T220000
DTSTAMP:20260421T005645
CREATED:20200724T073224Z
LAST-MODIFIED:20200915T114224Z
UID:685-1601148600-1601157600@serbski-kucik.de
SUMMARY:Horce plincy (Landeier)
DESCRIPTION:\n-premjera- \nW zanjesenym hnězdźe\, daloko preč wot wulkoměšćanskeho hołka a tołka\, žiworja mjez wowcami\, swinjemi a bio-morchejemi spokojni burja. Wšako knježi na wsy boži měr a durje wjesneje korčmy steja wšědnje wotewrjene. Tu so zetkawaja na kartyplacanje a bachtanje. Tola idylka to žana njeje\, wša spokojnosć ma swoju hranicu\, horicont je tak rjec pusty\, dokelž to najwažniše pobrachuje: žony. Hač z nawěškom w regionalnej nowinje abo pola partnerskeje agentury w Rumunskej\, wšě pospyty žonu namakać wostanu njewuspěšne. Přesadźowanje na přichodnym wjesnym swjedźenju tež žana opcija njeje. Tuž dyrbja so moderne a globalne puće kročić – haleluja internet! Ale štó žno ma zdaće wo tym\, što so žonam lubi a kajki maš być\, zo by jednu namakał? Ćežke prašenje\, hač k tomu dnjej\, jako so njejapcy dwě do korčmy njezabłudźitej. Jimaj počina so mjez nježenjencami lubić a skónčnje wozmjetej problem samotnych burikow do horšće a zdobom režiju při natočenju wuspěch lubjacych youtube-widejow.\nK bječenju struchła situacija samotnych burow na wsy so jako přewšo žortna komedija wukopa\, wšako je awtor swoje figury do dialogow spletł\, kiž njeby žiwjenje lěpje pisać móhło. \n
URL:https://serbski-kucik.de/event/horce-plincy-landeier/
LOCATION:Dźiwadło na hrodźe
CATEGORIES:Dźiwadło
ATTACH;FMTTYPE=image/jpeg:https://serbski-kucik.de/wp-content/uploads/2020/07/Horce-plincy__IMG_8173-scaled.jpg
END:VEVENT
END:VCALENDAR