BEGIN:VCALENDAR
VERSION:2.0
PRODID:-//serbski-kucik.de - ECPv4.9.14//NONSGML v1.0//EN
CALSCALE:GREGORIAN
METHOD:PUBLISH
X-WR-CALNAME:serbski-kucik.de
X-ORIGINAL-URL:https://serbski-kucik.de
X-WR-CALDESC:Veranstaltungen für serbski-kucik.de
BEGIN:VTIMEZONE
TZID:Europe/Berlin
BEGIN:DAYLIGHT
TZOFFSETFROM:+0100
TZOFFSETTO:+0200
TZNAME:CEST
DTSTART:20200329T010000
END:DAYLIGHT
BEGIN:STANDARD
TZOFFSETFROM:+0200
TZOFFSETTO:+0100
TZNAME:CET
DTSTART:20201025T010000
END:STANDARD
END:VTIMEZONE
BEGIN:VEVENT
DTSTART;TZID=Europe/Berlin:20201011T170000
DTEND;TZID=Europe/Berlin:20201011T190000
DTSTAMP:20260421T025218
CREATED:20200916T133038Z
LAST-MODIFIED:20200916T133038Z
UID:893-1602435600-1602442800@serbski-kucik.de
SUMMARY:Horce plincy (Landeier)
DESCRIPTION:\nkomedija wot Frederika Holtkampa /\nW zanjesenym hnězdźe\, daloko preč wot wulkoměšćanskeho hołka a tołka\, žiworja mjez wowcami\, swinjemi a bio-morchejemi spokojni burja. Wšako knježi na wsy boži měr a durje wjesneje korčmy steja wšědnje wotewrjene. Tu so zetkawaja na kartyplacanje a bachtanje. Tola idylka to žana njeje\, wša spokojnosć ma swoju hranicu\, horicont je tak rjec pusty\, dokelž to najwažniše pobrachuje: žony. \n
URL:https://serbski-kucik.de/event/horce-plincy-landeier-2/
LOCATION:dźiwadło na hrodźe
CATEGORIES:Dźiwadło
ATTACH;FMTTYPE=image/jpeg:https://serbski-kucik.de/wp-content/uploads/2020/09/Horce-plincy__IMG_8205-scaled.jpg
END:VEVENT
END:VCALENDAR