BEGIN:VCALENDAR
VERSION:2.0
PRODID:-//serbski-kucik.de - ECPv4.9.14//NONSGML v1.0//EN
CALSCALE:GREGORIAN
METHOD:PUBLISH
X-WR-CALNAME:serbski-kucik.de
X-ORIGINAL-URL:https://serbski-kucik.de
X-WR-CALDESC:Veranstaltungen für serbski-kucik.de
BEGIN:VTIMEZONE
TZID:Europe/Berlin
BEGIN:DAYLIGHT
TZOFFSETFROM:+0100
TZOFFSETTO:+0200
TZNAME:CEST
DTSTART:20230326T010000
END:DAYLIGHT
BEGIN:STANDARD
TZOFFSETFROM:+0200
TZOFFSETTO:+0100
TZNAME:CET
DTSTART:20231029T010000
END:STANDARD
END:VTIMEZONE
BEGIN:VEVENT
DTSTART;TZID=Europe/Berlin:20231117T180000
DTEND;TZID=Europe/Berlin:20231119T120000
DTSTAMP:20260421T125523
CREATED:20231121T124743Z
LAST-MODIFIED:20231121T124743Z
UID:2870-1700244000-1700395200@serbski-kucik.de
SUMMARY:Grundlagen unseres Glaubens
DESCRIPTION:\nerschaffen – begeistert – geliebt \nFachinput – Austausch – Vertiefung – Besinnung \nWer bist Du\, Gott\, der Du uns und alles ins Dasein riefst? Wer bist Du\, Jesus Christus\, der Du uns von Gottes bedingungsloser Liebe zeugst? Wer bist Du\, Heiliger Geist\, der Du uns erfüllst und bewegst? – Wer bist Du\, Gott für mich? \nEine lebendige Anleitung zum Nachdenken liefert der Theologe Assoz. Prof. Dr. Martin Dürrberger (Salzburg) in Form von theologischen Kurzvorträgen. Eine Vertiefung für das eigene Leben und die Praxis erfolgt in anschließenden Einheiten und bei Andacht und Gebeten.\nDas Wochenende ist ein Angebot für alle die sich theologisch und persönlich mit dem Glauben an den Dreieinen Gott auseinandersetzen und Ihren Glauben vertiefen möchten. \nDies ist eine Präsensveranstaltung zur Podcastserie „Basics-Endlich Verständlich“ \nPreise inklusiver Übernachtung und Verpflegung\nEZ 192€p.P. | DZ 160€p.P. \nAnmeldung unter folgendem Link: \nwww.ka-dd/begeistert\nAnmeldung bis 05.11.2023 \nFreitag:\n18:00 Uhr beginn mit gemeinsamen Abendessen\n19:00 Uhr Impuls Austausch Das Glaubensbekenntnis\n20:45 Uhr Abendgebet \nSamstag:\n08:00 Uhr Morgengebet und Frühstück\n09:00 Uhr Kurzvortrag und Diskussion Gott Vater\n10:15 Uhr Vertiefung Austausch\n12:00 Uhr Mittagessen\n14:30 Uhr Kaffee\n15:00 Kurzvortrag und Diskussion Jesus Christus\n16:00 Uhr Vertiefung Austausch\n18:00 Uhr Abendessen\n19:00 Uhr Kurzvortrag\, Diskussion\, Vertiefung Heiliger Geist\n20:45 Uhr Abendgebet \nSonntag:\n08:00 Uhr Morgengebet und Frühstück\n09:15 Uhr Zusammenfassung und Abschluss\n10:30 Uhr Heilige Messe\n11:30 Uhr Feedbackrunde\n12:00 Uhr Mittagessen und Abreise \nMit dabei sind:\nAssoz. Prof. Dr. Martin Dürrberger\, Assoziierter Professor für Fundamentaltheologie und Ökumenische Theologie an der Katholisch Theologischen Fakultät der Paris-London Universität Salzburg. Sorgt für den theologischen Input in Form von Kurzvorträgen \nBirgit Stica – Theologin und Pädagogin\, Referentin in der Abteilung Pastorale Entwicklung des Bischöflichen Ordinariats des Bistums Dresden-Meißen – führt in die Vertiefung ein und gestaltet die Gebetszeit. \nDaniel Hertze\, kath. Kichenredakteur bei RADIO PSR und R.SA in Leipzig und Moderator des Podcasts „Mit Herz und Haltung“ der Katholischen Akademie des Bistums Dresden-Maißen – moderiert das Wochenende \nPaulin Krause\, Referentin der Katholischen Akademie des Bistums Dresden-Meißen – führt die Vertiefung ein und gestaltet die Gebetszeit. \n
URL:https://serbski-kucik.de/event/grundlagen-unseres-glaubens/
CATEGORIES:Nabožina
ATTACH;FMTTYPE=image/jpeg:https://serbski-kucik.de/wp-content/uploads/2023/11/serbski-kucik_Grundlagen-unseres-Glaubens.jpg
END:VEVENT
END:VCALENDAR