BEGIN:VCALENDAR
VERSION:2.0
PRODID:-//serbski-kucik.de - ECPv4.9.14//NONSGML v1.0//EN
CALSCALE:GREGORIAN
METHOD:PUBLISH
X-WR-CALNAME:serbski-kucik.de
X-ORIGINAL-URL:https://serbski-kucik.de
X-WR-CALDESC:Veranstaltungen für serbski-kucik.de
BEGIN:VTIMEZONE
TZID:Europe/Berlin
BEGIN:DAYLIGHT
TZOFFSETFROM:+0100
TZOFFSETTO:+0200
TZNAME:CEST
DTSTART:20240331T010000
END:DAYLIGHT
BEGIN:STANDARD
TZOFFSETFROM:+0200
TZOFFSETTO:+0100
TZNAME:CET
DTSTART:20241027T010000
END:STANDARD
END:VTIMEZONE
BEGIN:VEVENT
DTSTART;TZID=Europe/Berlin:20240330T160000
DTEND;TZID=Europe/Berlin:20240330T180000
DTSTAMP:20260425T114918
CREATED:20240321T103744Z
LAST-MODIFIED:20240321T103744Z
UID:3033-1711814400-1711821600@serbski-kucik.de
SUMMARY:FOLKLORA!
DESCRIPTION:Orchester\, balet\, chór & moderacija \nRjany folklorny program pokaza wjerški z wjace hač 70 lětneho wobstaća Serbskeho ludoweho ansambla. Je to wulkotny swjedźeń\, w kotrymž poskićuja wšitke tři sparty ansambla zhromadnje kaž tež we wšelakich wobsadkach reje\, spěwy\, sceny\, folklornu  kaž tež wot folklory inspirěrowanu hudźbu we wšej pisanosći našich narodnych drastow. W přewšo wotměnjawym programje zaklinča twórby Jana Bulanka\, Jurja Winarja\, Korle Awgusta Kocora\, Jana Pawoła Nagela\, Jana Chlebníčeka\, Clemensa Pötzscha a Huberta Krossa z chórom\, orchestrom a baletom pod hudźbnym nawodom Georgiosa Balatsinosa a w režiji Mije Facchinelli a Aleny Farkaš. Po programje wjedźe po zwučenym šarmatnym a wustojnym wašnju Kristina Nerád. \nterminaj: \nćichu sobotu\, dnja 30. měrca w 16:00 hodź. w Budyšinje\, žurla SLA\njutrownu póndźelu\, dnja 01. apryla w 17:00 hodź. w Budyšinje\, žurla SLA \nKartki dóstanjeće při kasy SLA w Budyšinje abo online pod  www.ansambl.de. \nFoto: Jan Kamenz \n  \nFOLKLORA!\nFolkloregala mit Orchester\, Ballett\, Chor & Moderation \nIn einer beeindruckenden Folklore-Gala präsentiert das Sorbische National-Ensemble ausgewählte Höhepunkte seiner über 70-jährigen Geschichte. In einem Fest für alle Sinne bieten die drei Sparten des Hauses gemeinsam wie auch in verschiedenen Besetzungen Szenen\, Tänze und Chöre sowie Folklore- und folkloreinspirierte Musiken in der herrlichen Farbigkeit der unterschiedlichen Trachten dar. In dem äußerst abwechslungsreichen Programm erklingen Werke von Jan Bulank\, Jurij Winar\, Korla Awgust Kocor sowie Jan Paul Nagel\, Jan Chlebníček\, Clemens Pötzsch und Hubert Kross mit Chor\, Orchester und Ballett unter der musikalischen Leitung von Georgios Balatsinos und in der Regie von Mia Facchinelli und Alena Farkaš. Durch das Programm führt in gewohnt charmanter und kenntnisreich unterhaltsamer Art Kristina Nerád. \nTermine: \nKarsamstag\, den 30. März um 16:00 Uhr in Bautzen\, Saal des SNE\nOstermontag\, den 01. April um 17:00 Uhr in Bautzen\, Saal des SNE \nTickets:\nKarten für die Vorstellungen sind an der Kasse des Sorbischen National-Ensembles in Bautzen oder online unter www.ansambl.de erhältlich. \nFoto: Jan Kamenz \n
URL:https://serbski-kucik.de/event/folklora-2/2024-03-30/
CATEGORIES:Hudźba,Kultura
ATTACH;FMTTYPE=image/jpeg:https://serbski-kucik.de/wp-content/uploads/2024/03/Folklora©JanKamenz-scaled.jpg
END:VEVENT
END:VCALENDAR