BEGIN:VCALENDAR
VERSION:2.0
PRODID:-//serbski-kucik.de - ECPv4.9.14//NONSGML v1.0//EN
CALSCALE:GREGORIAN
METHOD:PUBLISH
X-WR-CALNAME:serbski-kucik.de
X-ORIGINAL-URL:https://serbski-kucik.de
X-WR-CALDESC:Veranstaltungen für serbski-kucik.de
BEGIN:VTIMEZONE
TZID:Europe/Berlin
BEGIN:DAYLIGHT
TZOFFSETFROM:+0100
TZOFFSETTO:+0200
TZNAME:CEST
DTSTART:20200329T010000
END:DAYLIGHT
BEGIN:STANDARD
TZOFFSETFROM:+0200
TZOFFSETTO:+0100
TZNAME:CET
DTSTART:20201025T010000
END:STANDARD
END:VTIMEZONE
BEGIN:VEVENT
DTSTART;TZID=Europe/Berlin:20201011T090000
DTEND;TZID=Europe/Berlin:20201011T110000
DTSTAMP:20260421T004550
CREATED:20201006T122121Z
LAST-MODIFIED:20201006T125638Z
UID:963-1602406800-1602414000@serbski-kucik.de
SUMMARY:firmowanje w Chrósćicach
DESCRIPTION:Zwučowanje za nje budźe sobotu 10.10.2020 wot 15:00 do 17:00 hodź. \n09:00 hodź Boža mša z knjezom biskopom em. Augsburgskim dr. Koradom Zdarsu \n14:00 hodź dźakny nyšpor firmujomnych \n
URL:https://serbski-kucik.de/event/firmowanje-w-chroscicach/
LOCATION:Chrósćicy
CATEGORIES:Nabožina
ATTACH;FMTTYPE=image/jpeg:https://serbski-kucik.de/wp-content/uploads/2020/10/rosary-1211064_1920.jpg
END:VEVENT
END:VCALENDAR