BEGIN:VCALENDAR
VERSION:2.0
PRODID:-//serbski-kucik.de - ECPv4.9.14//NONSGML v1.0//EN
CALSCALE:GREGORIAN
METHOD:PUBLISH
X-WR-CALNAME:serbski-kucik.de
X-ORIGINAL-URL:https://serbski-kucik.de
X-WR-CALDESC:Veranstaltungen für serbski-kucik.de
BEGIN:VTIMEZONE
TZID:Europe/Berlin
BEGIN:DAYLIGHT
TZOFFSETFROM:+0100
TZOFFSETTO:+0200
TZNAME:CEST
DTSTART:20210328T010000
END:DAYLIGHT
BEGIN:STANDARD
TZOFFSETFROM:+0200
TZOFFSETTO:+0100
TZNAME:CET
DTSTART:20211031T010000
END:STANDARD
END:VTIMEZONE
BEGIN:VEVENT
DTSTART;TZID=Europe/Berlin:20210617T150000
DTEND;TZID=Europe/Berlin:20210617T173000
DTSTAMP:20260421T051320
CREATED:20210628T123725Z
LAST-MODIFIED:20210628T123816Z
UID:1003-1623942000-1623951000@serbski-kucik.de
SUMMARY:Filmowe wótpołdnjo - Filmnachmittag „Wenn Sprache stirbt – Die Kärntener Slowenen”
DESCRIPTION:Filmnachmittag\n„Wenn Sprache stirbt – Die Kärntener Slowenen”\nin memoriam Toni Bruk\nGast: Reiner J. Nagel – ostwärts-film\n17.6.2021\n15:00 Serbski muzej/Wendisches Museum\nZum Film: Zu beiden Ufern der Drau\, am Fuße der Karawanken\, leben die Slowenen als eine von fünf anerkannten Volksgruppen in Österreich. Oft wurden sie auch die Winden genannt\, in älteren Schriften Wenden\, Wendové. Die ca. 20.000 Menschen sprechen und bewahren einen archaischen Dialekt des Slowenischen.\nToni Bruk widmet sich 2006 in seiner Doku-Reihe Kleine Sprachen in Europa\, den Kärntener Slowenen in Österreich. Sie ringen ebenfalls mit einem speziellen WITAJ-Projekt\, welches dort „KUGY“ heißt\, um den Erhalt der Sprache\, denn es gilt: Wenn die Sprache stirbt\, stirbt das Volk! Und die Antwort der Slowenen ist bei allen politischen Widrigkeiten in Kärnten: Die kulturelle Eigenart unseres Volkes und unsere Sprache stehen nicht zur Disposition. Auch wenn die Mehrheiten in Kärnten anders denken – eine Mehrheit ist kein Maßstab für das Recht!\nDr. Toni Bruck ist im vergangenen Jahr plötzlich verstorben. Im Gedenken an sein\nvielfältiges Schaffen sprechen wir im Anschluss mit seinem Kollegen\, dem Kameramann Reiner J. Nagel\, über Bruks Leistungen für den sorbischen/wendischen Film.\nEine Veranstaltung im Rahmen des 3-Länder-Kunstprojektes WOBRAZE KRAJINY. BILDER EINER LANDSCHAFT. PODOBE POKRAJINE. WOBRAZY KRAJINY mit freundlicher Unterstützung des rbb.\nWir bitten um telefonische Anmeldung unter 0355 794930 oder per E-Mail info@wendisches-museum.de. Der Museumsbesuch erfolgt im Rahmen aktuellen SARS-CoV-2-Eindämmungs- verordnung\, wir bitten um medizinischen Mund-Nasen-Schutz sowie die Einhaltung der allgemeinen Abstandsregeln.\nAusstellungsdauer bis 11. Juli 2021 in Cottbus/Chóśebuz.\nDas 3-Länder-Kunstprojekt ist eine Kooperation der Stiftung für das sorbische Volk mit den Museen und weiteren Kultureinrichtungen.\nwww.krajiny-2019-2020.info www.wendisches-museum.de www.galeriebrandenburg.de\n///\nFilmowe wótpołdnjo\n„Wenn Sprache stirbt – Die Kärntener Slowenen”\nw spomnjeśu na Tonija Bruka\ngósć: Reiner J. Nagel – ostwärts-film\n17.6.2021\n15:00 Serbski muzej/Wendisches Museum\nK filmoju: Pśi brjoze rěki Drau\, źož se Karawanken-górina zachopijo\, bydle Słowjeńce\, jadna wót\n5 pśipóznatych ludowych kupkow w Awstriskej. Cesto su teke pomjenowane ako „Winden“\, w staršych pisańskich žrědłach teke ako „Wenden”\, „Wendové”. Něźi 20.000 luźi powědaju a wobchowaju archaisku narěc słowjeńšćiny.\nToni Bruk zaběra se w lěśe 2006 w swójeje doku-seriji Rěc małkich ludow w Ewropje\, korutańskim Słowjeńcam w Awstriskej. Wóni wójuju rowno tak ako my Serby z wósebnym programom\, kótaremž tam gronje „KUGY“\, wó zdźaržanje rěcy\, pśeto wěrno jo: wumrějo rěc\, wumrějo lud! Wótegrono Słowjeńcow na to jo\, lěcrownož dajo teke politiske znapśeśiwjenja w Korutańskej: kulturna wósebnosć našogo luda a jogo rěcy njestoje k dispoziciji. Lěcrownož teke wětšyna w Korutańskej hynacej mysli\, njejo pak wětšyna žedno měritko za pšawo!\nLoni jo dr. Toni Bruk napśisko zemrěł. Zarědowanje stoj tež w spomnjeśu na Brukowe wjelebocne\ntwórjenje. Rozgranjamy se pó filmje wó Brukowych wuslědkach za wuwiśe serbskego filma z jogo kolegom\, kameramužom Reinerom J. Nagelom.\nZarědowanje wótměwa se w ramkach 3-krajowego wuměłskego projekta WOBRAZE KRAJINY. BILDER EINER LANDSCHAFT. PODOBE POKRAJINE. WOBRAZY KRAJINY z pśijazneju pódpěru rbb.\nPšosymy wó telefoniske pśizjawjenje pód: 0355 794930 abo pśez majlku: info@wendisches-museum.de. Woglěd muzeja jo dowolony w ramkach aktualnych póstajenjow pśeśiwo SARS-CoV-2. Pśedpisane jo medicinski nagubnik nosyś a pśedpisany wótstawk źaržaś. Woglědarje mógu se pśez Luca-app pśizjawiś.\nWustajeńca trajo hyšći až do 11. julija 2021 w Chóśebuzu.\n3-krajowy wuměłski projekt jo kooperacija Załožby za serbski lud z muzejami a dalšnymi kulturnymi institucijami.\nwww.krajiny-2019-2020.info\nwww.wendisches-museum.de www.galeriebrandenburg.de\n
URL:https://serbski-kucik.de/event/filmowe-wotpoldnjo-filmnachmittag-wenn-sprache-stirbt-die-kaerntener-slowenen/
LOCATION:Wendisches Museum Cottbus / Serbski muzej Chóśebuz\, Mühlenstraße / Młyńska droga 12
CATEGORIES:Wuměłstwo
ATTACH;FMTTYPE=image/jpeg:https://serbski-kucik.de/wp-content/uploads/2021/06/WOBRAZE_KRAJINY.jpg
END:VEVENT
END:VCALENDAR