BEGIN:VCALENDAR
VERSION:2.0
PRODID:-//serbski-kucik.de - ECPv4.9.14//NONSGML v1.0//EN
CALSCALE:GREGORIAN
METHOD:PUBLISH
X-WR-CALNAME:serbski-kucik.de
X-ORIGINAL-URL:https://serbski-kucik.de
X-WR-CALDESC:Veranstaltungen für serbski-kucik.de
BEGIN:VTIMEZONE
TZID:Europe/Berlin
BEGIN:DAYLIGHT
TZOFFSETFROM:+0100
TZOFFSETTO:+0200
TZNAME:CEST
DTSTART:20230326T010000
END:DAYLIGHT
BEGIN:STANDARD
TZOFFSETFROM:+0200
TZOFFSETTO:+0100
TZNAME:CET
DTSTART:20231029T010000
END:STANDARD
END:VTIMEZONE
BEGIN:VEVENT
DTSTART;TZID=Europe/Berlin:20230619T150000
DTEND;TZID=Europe/Berlin:20230619T170000
DTSTAMP:20260420T152620
CREATED:20231031T075148Z
LAST-MODIFIED:20231031T075148Z
UID:2222-1687186800-1687194000@serbski-kucik.de
SUMMARY:Dźeń wotewrjenych durij w dźiwadle
DESCRIPTION:Śto rěka elew(k)a być!\nPrašej so! \nZetkamy so prěd jewišćowym zachodom na seminarskej 12. \n
URL:https://serbski-kucik.de/event/dzen-wotewrjenych-durij-w-dziwadle/
CATEGORIES:Dźiwadło,Młodźina
ATTACH;FMTTYPE=image/jpeg:https://serbski-kucik.de/wp-content/uploads/2023/10/20230619.jpg
END:VEVENT
END:VCALENDAR