BEGIN:VCALENDAR
VERSION:2.0
PRODID:-//serbski-kucik.de - ECPv4.9.14//NONSGML v1.0//EN
CALSCALE:GREGORIAN
METHOD:PUBLISH
X-WR-CALNAME:serbski-kucik.de
X-ORIGINAL-URL:https://serbski-kucik.de
X-WR-CALDESC:Veranstaltungen für serbski-kucik.de
BEGIN:VTIMEZONE
TZID:Europe/Berlin
BEGIN:DAYLIGHT
TZOFFSETFROM:+0100
TZOFFSETTO:+0200
TZNAME:CEST
DTSTART:20250330T010000
END:DAYLIGHT
BEGIN:STANDARD
TZOFFSETFROM:+0200
TZOFFSETTO:+0100
TZNAME:CET
DTSTART:20251026T010000
END:STANDARD
END:VTIMEZONE
BEGIN:VEVENT
DTSTART;TZID=Europe/Berlin:20250408T170000
DTEND;TZID=Europe/Berlin:20250408T190000
DTSTAMP:20260421T030800
CREATED:20250402T092157Z
LAST-MODIFIED:20250402T092157Z
UID:3389-1744131600-1744138800@serbski-kucik.de
SUMMARY:Dźěłarnička hotowanja drasty ewangelskich Serbow wokoło Budyšina
DESCRIPTION: \nDźěłarnička hotowanja drasty ewangelskich Serbow wokoło Budyšina – přizjewće so! \nWorkshop Ankleiden: Die Tracht der evangelischen Sorben um Bautzen – Jetzt anmelden zum Workshop! \n  \nŠtóž ma\, njech sej prošu swójsku drastu na zwoblěkanje sobu přinjese.\nWer selbst eine Tracht hat\, bringt diese bitte mit – gern auch ein Mädchen zum Ankleiden. \n08.04.2025 a 29.04.2025\n17:00 hodź. \nkontak:\nSonja Hrjehorjowa\ntel.: 03571 608 46 14\nsonja.hrjehorjowa@domowina.de \nKatja Liznarjec\ntel.: 03591 550 211 \npopłatk: 5\,00 € \n
URL:https://serbski-kucik.de/event/dzelarnicka-hotowanja-drasty-ewangelskich-serbow-wokolo-budysina/2025-04-08/
CATEGORIES:Kultura
ATTACH;FMTTYPE=image/jpeg:https://serbski-kucik.de/wp-content/uploads/2025/04/Dźěłarnička-hotowanja-drasty.jpg
END:VEVENT
END:VCALENDAR