BEGIN:VCALENDAR
VERSION:2.0
PRODID:-//serbski-kucik.de - ECPv4.9.14//NONSGML v1.0//EN
CALSCALE:GREGORIAN
METHOD:PUBLISH
X-WR-CALNAME:serbski-kucik.de
X-ORIGINAL-URL:https://serbski-kucik.de
X-WR-CALDESC:Veranstaltungen für serbski-kucik.de
BEGIN:VTIMEZONE
TZID:Europe/Berlin
BEGIN:DAYLIGHT
TZOFFSETFROM:+0100
TZOFFSETTO:+0200
TZNAME:CEST
DTSTART:20250330T010000
END:DAYLIGHT
BEGIN:STANDARD
TZOFFSETFROM:+0200
TZOFFSETTO:+0100
TZNAME:CET
DTSTART:20251026T010000
END:STANDARD
END:VTIMEZONE
BEGIN:VEVENT
DTSTART;TZID=Europe/Berlin:20250602T083000
DTEND;TZID=Europe/Berlin:20250602T160000
DTSTAMP:20260422T111643
CREATED:20250519T095105Z
LAST-MODIFIED:20250519T095105Z
UID:3485-1748853000-1748880000@serbski-kucik.de
SUMMARY:Dźěćacy swjedźeń w Radworju
DESCRIPTION:2.6.2025 wotměje so dźěćacy swjedźeń w Radworju.\nTež serbski experiMINT campus Radwor je pódla!\n8.30 Uhr – 11 Uhr pěstowarske dźěći gmejny Radwor\n12.30 Uhr – 14.30 Uhr hortowe dźěći gmejny Radwor\nJe to zawrjene zarjadowanje. \n2.6.2025 Kinderfest in der Turnhalle Slavia in Radibor. Auch der sorbische experiMINT Campus Radibor ist dabei.\n8.30 Uhr – 11 Uhr KITA Kinder der Gemeinde Radibor\n12.30 Uhr – 14.30 Uhr Hortkinder der Gemeinde Radibor\nDieses ist eine geschlossene Veranstaltung! \nplakat/ foto @romankoryzna\n@rentschmadeleine \n
URL:https://serbski-kucik.de/event/dzecacy-swjedzen-w-radworju/
CATEGORIES:Swójby
ATTACH;FMTTYPE=image/jpeg:https://serbski-kucik.de/wp-content/uploads/2025/05/dźěćacy-swjedźeń.jpeg
END:VEVENT
END:VCALENDAR