BEGIN:VCALENDAR
VERSION:2.0
PRODID:-//serbski-kucik.de - ECPv4.9.14//NONSGML v1.0//EN
CALSCALE:GREGORIAN
METHOD:PUBLISH
X-WR-CALNAME:serbski-kucik.de
X-ORIGINAL-URL:https://serbski-kucik.de
X-WR-CALDESC:Veranstaltungen für serbski-kucik.de
BEGIN:VTIMEZONE
TZID:Europe/Berlin
BEGIN:DAYLIGHT
TZOFFSETFROM:+0100
TZOFFSETTO:+0200
TZNAME:CEST
DTSTART:20220327T010000
END:DAYLIGHT
BEGIN:STANDARD
TZOFFSETFROM:+0200
TZOFFSETTO:+0100
TZNAME:CET
DTSTART:20221030T010000
END:STANDARD
END:VTIMEZONE
BEGIN:VEVENT
DTSTART;TZID=Europe/Berlin:20221206T170000
DTEND;TZID=Europe/Berlin:20221206T190000
DTSTAMP:20260421T192811
CREATED:20221130T154502Z
LAST-MODIFIED:20221130T154502Z
UID:2008-1670346000-1670353200@serbski-kucik.de
SUMMARY:Dyrdomdejstwa Pumpota
DESCRIPTION:Dyrdomdejstwa Pumpota\nRejowana bajka k swj. Mikławšej \nPumpot słuša do najznaćišich a najwoblubowanišich serbskich bajowych figurow\, dokelž zawinuje\, podobnje kaž Till Eulenspiegel\, ze swojimi žortnymi worakawstwami někotrežkuli turbulency. W pjeć wobrazach powěda baletna bajka “Dyrdomdejstwa Pumpota” stawiznu wo šibawym młynskim z jeho kónčkojtym kuzłarskim kłobukom\, wo jeho ćěkańcy před nahrabnym młynkom a jeho zmijom a wo jeho zetkanju z rjanej\, tola krutej připołdnicu\, z błudničkami a druhimi postawami serbskich bajow\, kiž wón na swojim napjatym pućowanju po Łužicy zetka. \ntermin:\nWutora\, swj. Mikławš\, dnja 6. decembra 17 hodź. w Budyšinje\, žurla SLA \n  \nDie Abenteuer des Pumpot\nMärchenballett zum Nikolaustag \nDer Pumpot ist eine der bekanntesten und beliebtesten sorbischen Sagenfiguren\, da er\, ähnlich dem Till Eulenspiegel\, mit seinen lustigen Streichen für allerlei Turbulenzen sorgt. In fünf Bildern erzählt das Märchenballett “Die Abenteuer des Pumpot” die Geschichte des pfiffigen Müllerburschen mit seinem spitzen\, breitkrempigen Zauberhut\, von seiner Flucht vor dem habgierigen Müller und dessen Drachen und von den Begegnungen mit der schönen und strengen Mittagsfrau\, den Irrlichtern und anderen Gestalten der sorbischen Sagenwelt auf seiner spannenden Wanderschaft durch die Lausitz. \nTermin:\nDienstag\, Nikolaustag\, den 6. Dezember 17 Uhr in Bautzen\, Saal des Sorbischen National-Ensembles \nFoto: Martin Pižga \n
URL:https://serbski-kucik.de/event/dyrdomdejstwa-pumpota-2/
LOCATION:Budyšin\, žurla SLA
CATEGORIES:Dźiwadło,Swójby
ATTACH;FMTTYPE=image/jpeg:https://serbski-kucik.de/wp-content/uploads/2022/11/PumpotSNE@MartinPižga-scaled.jpg
END:VEVENT
END:VCALENDAR