BEGIN:VCALENDAR
VERSION:2.0
PRODID:-//serbski-kucik.de - ECPv4.9.14//NONSGML v1.0//EN
CALSCALE:GREGORIAN
METHOD:PUBLISH
X-WR-CALNAME:serbski-kucik.de
X-ORIGINAL-URL:https://serbski-kucik.de
X-WR-CALDESC:Veranstaltungen für serbski-kucik.de
BEGIN:VTIMEZONE
TZID:Europe/Berlin
BEGIN:DAYLIGHT
TZOFFSETFROM:+0100
TZOFFSETTO:+0200
TZNAME:CEST
DTSTART:20250330T010000
END:DAYLIGHT
BEGIN:STANDARD
TZOFFSETFROM:+0200
TZOFFSETTO:+0100
TZNAME:CET
DTSTART:20251026T010000
END:STANDARD
END:VTIMEZONE
BEGIN:VEVENT
DTSTART;TZID=Europe/Berlin:20250313T140000
DTEND;TZID=Europe/Berlin:20250313T173000
DTSTAMP:20260421T030701
CREATED:20250221T130248Z
LAST-MODIFIED:20250221T130248Z
UID:3322-1741874400-1741887000@serbski-kucik.de
SUMMARY:Dyrdomdej\, hra a hrjekowstwa
DESCRIPTION:dalekubłanje za kubłarjow\, wučerjow zakładnych šulow\, staršich\, wowki a dźědow a wšitkich „wulkich“ bajki powědarjow \nKak putacu stawizničku wuwiwamy?\nZ kotrymi přidawkami sej zajimawe powědančko nawarimy?\nKotre efekty hižo z jednorymi srědkami a objektami docpěwamy? \nPři tym myslimy tež na naš młody oublikum – wćipne dźěći. \nTo a hišće wjele wjac nawuknjeće a wuspytaće w našej praktiskej dźěłarničce. \nDźěłarničku nawjeduje Christian H. Schröter\, swobodny režiser a dźiwadłowy pedagoga\, kaž tež přećel Serbow. \nHdy\nběžny kurs na štyrjoch popołdnjach přeco wot 14:00 do 17:30 hodź.\nštwórtk 13.03.2025\npjatk 14.03.2025\nštwórtk 10.04.2025\npjatk 11.04.2025 \nHźe\nSerbske kubłanske srjedźišćo LIPA w Smjerdźacej \npopłatk\n50 € regularne\n40 € za čłonow SŠT z. t. \nPřizjewjenja přijimuja so hač do 28.02.2025 pod\nh.schoen@sorbischer-schulverein.de \ndalše informacije namakaće pod:\nwww.sorbischer-schulverein.de/hs/knihi-a-klankodziwadlo \n
URL:https://serbski-kucik.de/event/dyrdomdej-hra-a-hrjekowstwa/2025-03-13/
CATEGORIES:Nowosće,Swójby
ATTACH;FMTTYPE=image/jpeg:https://serbski-kucik.de/wp-content/uploads/2025/02/Screenshot_20250221_111310_Instagram.jpg
END:VEVENT
END:VCALENDAR