BEGIN:VCALENDAR
VERSION:2.0
PRODID:-//serbski-kucik.de - ECPv4.9.14//NONSGML v1.0//EN
CALSCALE:GREGORIAN
METHOD:PUBLISH
X-WR-CALNAME:serbski-kucik.de
X-ORIGINAL-URL:https://serbski-kucik.de
X-WR-CALDESC:Veranstaltungen für serbski-kucik.de
BEGIN:VTIMEZONE
TZID:Europe/Berlin
BEGIN:DAYLIGHT
TZOFFSETFROM:+0100
TZOFFSETTO:+0200
TZNAME:CEST
DTSTART:20200329T010000
END:DAYLIGHT
BEGIN:STANDARD
TZOFFSETFROM:+0200
TZOFFSETTO:+0100
TZNAME:CET
DTSTART:20201025T010000
END:STANDARD
END:VTIMEZONE
BEGIN:VEVENT
DTSTART;TZID=Europe/Berlin:20200926T193000
DTEND;TZID=Europe/Berlin:20200927T030000
DTSTAMP:20260421T004311
CREATED:20200812T133801Z
LAST-MODIFIED:20200812T133801Z
UID:798-1601148600-1601175600@serbski-kucik.de
SUMMARY:DSF-Party 2020
DESCRIPTION:\nDas Jahr neigt sich dem Ende.\nEin Jahr voller erschreckender\, beängstigender und unschöner Momente. Doch vor allem eins hatten wir in diesem Jahr genug – RUHE!\nDoch damit ist jetzt Schluss. Der Jugendclub Cunnewitz-Schönau meldet sich mit voller Kraft zurück aus der Coronapause und zwar mit einer Party die sich gewaschen und desinfiziert hat – DSF! Ein Zeichen für Frieden\, Freude und Freundschaft. Und in einem Jahr voller verrückter Momente bieten wir euch selbstverständlich auch eine verrückte Party\, die es so wahrscheinlich noch nicht gegeben hat. Die Party steht ganz im Zeichen des „Bauzauns“. Ja ihr habt richtig gelesen\, doch dazu erfährt ihr später mehr.\nSelbstverständlich legen wir riesigen Wert auf die Gesundheit eines jeden Einzelnen und sind anhand der aktuellen Situation gezwungen einige Abstriche und Änderungen vorzunehmen. Somit müssen wir dieses Jahr auf unsere gewohnte Location in Cunnewitz verzichten\, was jedoch keineswegs schlecht ist. Wir ziehen um auf den Sportplatz nach Schönau und feiern vor einer Festivalbühne der Extraklasse. Eine Open-Air-Bühne\, welche wir dieses Jahr alle sehnlichst vermisst haben\, bestückt mit allem was dazu gehört. Und natürlich besetzt durch die besten DJs aus nah und fern! \nAlso wenn ihr auch nochmal Lust habt dieses Jahr so richtig die Sau raus zu lassen\, dann tragt euch den 26. September 2020 dick im Kalender ein.\nDenn es wird wieder gefeiert im Lande\, und zwar DSF\, DIE Party der Deutsch-Sorbischen-Freundschaft! \nL I N E U P\n21.00-22.00 Uhr DLVRD\n22.00-23.00 Uhr Simplexx & SCALA\n23.00-00.00 Uhr Kim She\n00.00-02.00 Uhr Geheimer Headliner\n02.00-03.00 Uhr Technophil \nI N F O R M A T I O N E N\nEinlass: P18\nTickets: https://www.eventim-light.com/de/a/5f1139292801471d6fe0c674/e/5f113ef82801471d6fe0c688/?fbclid=IwAR2hp8bdxLTYRLQgsuKT8Hl5Ga-QgKS1zmVB1l8LYGu4bU0iREgIOhS5rcc\nEs gibt keine Abendkasse! \nF A C E B O O K\nhttps://facebook.com/events/s/dsf-party-2020/406685440309900/?ti=icl \nBei Fragen zur Veranstaltung erreicht ihr uns über unsere E-Mailadresse: jugendclub.cunnewitz.schoenau@gmail.com \n
URL:https://serbski-kucik.de/event/dsf-party-2020/
LOCATION:Schönau
CATEGORIES:Młodźina
ATTACH;FMTTYPE=image/png:https://serbski-kucik.de/wp-content/uploads/2020/08/C7542217-1655-4DB6-A998-29E62EF586B6.png
END:VEVENT
END:VCALENDAR