BEGIN:VCALENDAR
VERSION:2.0
PRODID:-//serbski-kucik.de - ECPv4.9.14//NONSGML v1.0//EN
CALSCALE:GREGORIAN
METHOD:PUBLISH
X-WR-CALNAME:serbski-kucik.de
X-ORIGINAL-URL:https://serbski-kucik.de
X-WR-CALDESC:Veranstaltungen für serbski-kucik.de
BEGIN:VTIMEZONE
TZID:Europe/Berlin
BEGIN:DAYLIGHT
TZOFFSETFROM:+0100
TZOFFSETTO:+0200
TZNAME:CEST
DTSTART:20250330T010000
END:DAYLIGHT
BEGIN:STANDARD
TZOFFSETFROM:+0200
TZOFFSETTO:+0100
TZNAME:CET
DTSTART:20251026T010000
END:STANDARD
END:VTIMEZONE
BEGIN:VEVENT
DTSTART;TZID=Europe/Berlin:20250210T190000
DTEND;TZID=Europe/Berlin:20250210T203000
DTSTAMP:20260420T210702
CREATED:20250204T150144Z
LAST-MODIFIED:20250204T150144Z
UID:3277-1739214000-1739219400@serbski-kucik.de
SUMMARY:Dožiwjenja w horach
DESCRIPTION:Dožiwjenja w horach \nSyman Pöpel\nrozprawja wo swojich pućowanjach do Georgiskeje a Nepala \n10. februara 2025\nw 19.00 hodź.\nw Radworskim Słodeńku \nChór Meja přeprošuje wšitkich zajimcow. \n
URL:https://serbski-kucik.de/event/doziwjenja-w-horach/
CATEGORIES:Přiroda,Sport
ATTACH;FMTTYPE=image/jpeg:https://serbski-kucik.de/wp-content/uploads/2025/02/Doziwjenja_Syman-Poepel-2025.jpg
END:VEVENT
END:VCALENDAR