BEGIN:VCALENDAR
VERSION:2.0
PRODID:-//serbski-kucik.de - ECPv4.9.14//NONSGML v1.0//EN
CALSCALE:GREGORIAN
METHOD:PUBLISH
X-WR-CALNAME:serbski-kucik.de
X-ORIGINAL-URL:https://serbski-kucik.de
X-WR-CALDESC:Veranstaltungen für serbski-kucik.de
BEGIN:VTIMEZONE
TZID:Europe/Berlin
BEGIN:DAYLIGHT
TZOFFSETFROM:+0100
TZOFFSETTO:+0200
TZNAME:CEST
DTSTART:20210328T010000
END:DAYLIGHT
BEGIN:STANDARD
TZOFFSETFROM:+0200
TZOFFSETTO:+0100
TZNAME:CET
DTSTART:20211031T010000
END:STANDARD
END:VTIMEZONE
BEGIN:VEVENT
DTSTART;TZID=Europe/Berlin:20210206T193000
DTEND;TZID=Europe/Berlin:20210206T220000
DTSTAMP:20260421T025321
CREATED:20200724T073334Z
LAST-MODIFIED:20200805T071914Z
UID:691-1612639800-1612648800@serbski-kucik.de
SUMMARY:Dołhož fenki běža (Und ewig rauschen die Gelder)
DESCRIPTION:\nDołhož fenki běža\, wjerći so tež žiwjenje bjezstarostnje. Tola što činiš\, hdyž je dźěło fuk a pjenjezy su trjeba? Staraš so wo to\, zo pjenježne žórło njewusaknje. Eric Swan\, na sebi dobra duša\, njezamóže so swojej žonje Lindźe wuspowědać\, zo žno dawno wjace žane dźěło nima. Město toho pak je cyle lukratiwnje za tym přišoł\, kak móhł dochody naruna. Syć socialnych podpěrow je wulka\, hdyž maš podružnika w domje\, za kotrehož próstwu stajiš. Wšojedne hač je tón do Kanady wupućował abo tola ćežko chory we łožu leži. Eric je w tutym nastupanju liška a pomocliwosć socialneho stata bjezkónčna\, hdyž dźe wo inwalidowu rentu\, chorobne a dźěćace pjenjezy\, podpěru za bydlenje abo šulske mloko. Mjeztym\, zo jeho žona Linda z toho wuchadźa\, zo chodźi Eric wšědnje pěknje na dźěło\, stara so wón běžnje wo fenki. Doniž njesteji rjaneho dnja njejapcy pruwowar socialneho hamta před durjemi.\nMichael Cooney je napisał kołwrótnu komediju połnu šmjatańcow\, zaměnjenjow a žortnych překwapjenkow. Dokelž njemóžachmy hru w minjenej hrajnej dobje po premjerje wupada chorosćow a koronoweje pandemije dla předstajić\, smy ju znowa do hrajneho plana wzali – k wašemu wjeselu\, hdyž so znowa žurla pjelni ze smjećom\, kaž lědma hdy do toho na našim serbskim dźiwadle. \n
URL:https://serbski-kucik.de/event/dolhoz-fenki-beza-und-ewig-rauschen-die-gelder/
LOCATION:Theater Bautzen\, großes Haus
CATEGORIES:Dźiwadło
ATTACH;FMTTYPE=image/jpeg:https://serbski-kucik.de/wp-content/uploads/2020/07/Dolhoz-fenki-beza-scaled.jpg
END:VEVENT
END:VCALENDAR