BEGIN:VCALENDAR
VERSION:2.0
PRODID:-//serbski-kucik.de - ECPv4.9.14//NONSGML v1.0//EN
CALSCALE:GREGORIAN
METHOD:PUBLISH
X-WR-CALNAME:serbski-kucik.de
X-ORIGINAL-URL:https://serbski-kucik.de
X-WR-CALDESC:Veranstaltungen für serbski-kucik.de
BEGIN:VTIMEZONE
TZID:Europe/Berlin
BEGIN:DAYLIGHT
TZOFFSETFROM:+0100
TZOFFSETTO:+0200
TZNAME:CEST
DTSTART:20230326T010000
END:DAYLIGHT
BEGIN:STANDARD
TZOFFSETFROM:+0200
TZOFFSETTO:+0100
TZNAME:CET
DTSTART:20231029T010000
END:STANDARD
END:VTIMEZONE
BEGIN:VEVENT
DTSTART;TZID=Europe/Berlin:20230922T200000
DTEND;TZID=Europe/Berlin:20230922T235900
DTSTAMP:20260421T104135
CREATED:20231031T110933Z
LAST-MODIFIED:20231031T110933Z
UID:2381-1695412800-1695427140@serbski-kucik.de
SUMMARY:CTP - Club Teich Party
DESCRIPTION:
URL:https://serbski-kucik.de/event/ctp-club-teich-party/2023-09-22/
CATEGORIES:Młodźina
ATTACH;FMTTYPE=image/jpeg:https://serbski-kucik.de/wp-content/uploads/2023/10/20230922-0923-e1698750547392.jpg
END:VEVENT
END:VCALENDAR