BEGIN:VCALENDAR
VERSION:2.0
PRODID:-//serbski-kucik.de - ECPv4.9.14//NONSGML v1.0//EN
CALSCALE:GREGORIAN
METHOD:PUBLISH
X-WR-CALNAME:serbski-kucik.de
X-ORIGINAL-URL:https://serbski-kucik.de
X-WR-CALDESC:Veranstaltungen für serbski-kucik.de
BEGIN:VTIMEZONE
TZID:Europe/Berlin
BEGIN:DAYLIGHT
TZOFFSETFROM:+0100
TZOFFSETTO:+0200
TZNAME:CEST
DTSTART:20250330T010000
END:DAYLIGHT
BEGIN:STANDARD
TZOFFSETFROM:+0200
TZOFFSETTO:+0100
TZNAME:CET
DTSTART:20251026T010000
END:STANDARD
END:VTIMEZONE
BEGIN:VEVENT
DTSTART;TZID=Europe/Berlin:20250222T090000
DTEND;TZID=Europe/Berlin:20250222T153000
DTSTAMP:20260420T211325
CREATED:20250204T145311Z
LAST-MODIFIED:20250204T145311Z
UID:3272-1740214800-1740238200@serbski-kucik.de
SUMMARY:crashkurs – serbšćina za započatkarjow
DESCRIPTION:crashkurs – serbšćina za započatkarjow\nCrashkurs für Anfänger \nDomowina Wojerjecy\nDrježdźanska 18 \nDomowina Hoyerswerda\nDresdner Str. 18 \n
URL:https://serbski-kucik.de/event/crashkurs-serbscina-za-zapocatkarjow/2025-02-22/
CATEGORIES:Nowosće
ATTACH;FMTTYPE=image/jpeg:https://serbski-kucik.de/wp-content/uploads/2025/02/ZARI_crashkurs-serbšćina.jpg
END:VEVENT
END:VCALENDAR