BEGIN:VCALENDAR
VERSION:2.0
PRODID:-//serbski-kucik.de - ECPv4.9.14//NONSGML v1.0//EN
CALSCALE:GREGORIAN
METHOD:PUBLISH
X-WR-CALNAME:serbski-kucik.de
X-ORIGINAL-URL:https://serbski-kucik.de
X-WR-CALDESC:Veranstaltungen für serbski-kucik.de
BEGIN:VTIMEZONE
TZID:Europe/Berlin
BEGIN:DAYLIGHT
TZOFFSETFROM:+0100
TZOFFSETTO:+0200
TZNAME:CEST
DTSTART:20200329T010000
END:DAYLIGHT
BEGIN:STANDARD
TZOFFSETFROM:+0200
TZOFFSETTO:+0100
TZNAME:CET
DTSTART:20201025T010000
END:STANDARD
END:VTIMEZONE
BEGIN:VEVENT
DTSTART;TZID=Europe/Berlin:20201028T100000
DTEND;TZID=Europe/Berlin:20201028T110000
DTSTAMP:20260421T005805
CREATED:20200724T073306Z
LAST-MODIFIED:20200805T071936Z
UID:688-1603879200-1603882800@serbski-kucik.de
SUMMARY:Čmjeła Hana chce do dowola lećeć
DESCRIPTION:\nSkónčnje je zaso tak daloko a dźiwadło zaso hraje. Smy wšitcy tutón spodźiwny korona čas přetrali abo tola hišće nic? Znajmjeńša bě to tež za čmjełu Hanu spodźiwne \, hdyž widźeše ludźi w zašłych měsacach z rubiškami na nosu po dróhach běhać. Čmjeła Hana je zaso ducy po serbskich pěstowarnjach a zakładnych šulach a wězo přewodźujetaj ju zaso jeje přećelej zmij Domabor a pinguin Kurt. Tónle raz přihotuja so wšitcy na dowol – skónčnje\, wšako bě lětsa wupadnył. Zmij Domabor powěda wo Galapagosu\, Pinguin Kurt wo Islandskej a Hana hotuje so na jězbu z dowolowej łódźu po wulkim morju. Kajke dyrdomdeje jich tam wočakuja a što wšo dyrbja w swojim kófrje sobu wzać\, dožiwiće\, hdyž čmjeła Hana k wam přileći. \nDźiwadłowa hra k sobuhraću za serbske a serbšćinu wuknjace dźěći. \n
URL:https://serbski-kucik.de/event/cmjela-hana-chce-do-dowola-lecec/
LOCATION:Ralbitz\, Kita
CATEGORIES:Dźiwadło
ATTACH;FMTTYPE=image/jpeg:https://serbski-kucik.de/wp-content/uploads/2020/07/Hummel-Hana.jpg
END:VEVENT
END:VCALENDAR