BEGIN:VCALENDAR
VERSION:2.0
PRODID:-//serbski-kucik.de - ECPv4.9.14//NONSGML v1.0//EN
CALSCALE:GREGORIAN
METHOD:PUBLISH
X-WR-CALNAME:serbski-kucik.de
X-ORIGINAL-URL:https://serbski-kucik.de
X-WR-CALDESC:Veranstaltungen für serbski-kucik.de
BEGIN:VTIMEZONE
TZID:Europe/Berlin
BEGIN:DAYLIGHT
TZOFFSETFROM:+0100
TZOFFSETTO:+0200
TZNAME:CEST
DTSTART:20200329T010000
END:DAYLIGHT
BEGIN:STANDARD
TZOFFSETFROM:+0200
TZOFFSETTO:+0100
TZNAME:CET
DTSTART:20201025T010000
END:STANDARD
END:VTIMEZONE
BEGIN:VEVENT
DTSTART;TZID=Europe/Berlin:20200412T121500
DTEND;TZID=Europe/Berlin:20200412T143000
DTSTAMP:20260421T002234
CREATED:20200320T152007Z
LAST-MODIFIED:20200330T071338Z
UID:513-1586693700-1586701800@serbski-kucik.de
SUMMARY:Chrósćicy na Klóšter
DESCRIPTION:\nwotprajene\n12.15 – 14.30 hodź\nChrósćicy\, Zejicy\, do Swinjarnje w 13.30 hodź.\, wot Swinjarnje w 14.15 hodź.\, Pančicy-Kukow (Klóšter Marijina Hwězda)\nPuć wróćo: 14.30 – 17.00 hodź\nPančicy-Kukow (Klóšter Marijina Hwězda)\, Wudwor\, Worklecy\, Kozarcy\, Chrósćicy \n
URL:https://serbski-kucik.de/event/chroscicy-na-kloster/
CATEGORIES:Nabožina
ATTACH;FMTTYPE=image/jpeg:https://serbski-kucik.de/wp-content/uploads/2020/03/Crostwitz.jpg
END:VEVENT
END:VCALENDAR