BEGIN:VCALENDAR
VERSION:2.0
PRODID:-//serbski-kucik.de - ECPv4.9.14//NONSGML v1.0//EN
CALSCALE:GREGORIAN
METHOD:PUBLISH
X-WR-CALNAME:serbski-kucik.de
X-ORIGINAL-URL:https://serbski-kucik.de
X-WR-CALDESC:Veranstaltungen für serbski-kucik.de
BEGIN:VTIMEZONE
TZID:Europe/Berlin
BEGIN:DAYLIGHT
TZOFFSETFROM:+0100
TZOFFSETTO:+0200
TZNAME:CEST
DTSTART:20230326T010000
END:DAYLIGHT
BEGIN:STANDARD
TZOFFSETFROM:+0200
TZOFFSETTO:+0100
TZNAME:CET
DTSTART:20231029T010000
END:STANDARD
END:VTIMEZONE
BEGIN:VEVENT
DTSTART;TZID=Europe/Berlin:20231105T110000
DTEND;TZID=Europe/Berlin:20231105T130000
DTSTAMP:20260420T172357
CREATED:20231101T194219Z
LAST-MODIFIED:20231101T194254Z
UID:2671-1699182000-1699189200@serbski-kucik.de
SUMMARY:Chrósćanscy muzikanća předstaja nowu CD
DESCRIPTION:\nNatočene – hercy dopijće! rěka nowa CDka Chrósćanskich muzikantow\, kotruž we Budyskej piwarni předstaja. \nDie Crostwitzer Blasmusikanten stellen Ihre neue CD vor\nNatočene – hercy dopijće! (Vollgezapft – Musikanten trinkt aus!) heisst die neue CD der Crostwitzer Blasmusikanten\,. welche sie im Bautzener Brauhaus vorstellen. \nterminy: \n05.11. | 11.00 hodź. | „Brauhaus Bautzen“\n03.12. | 15.00 hodź. | Cottbus-Sielow / Žylow\n09.12. | 20.00 hodź. | „Jednota“ Chrósćicy /Crostwitz \n
URL:https://serbski-kucik.de/event/chroscanscy-muzikanca-predstaja-nowu-cd/2023-11-05/
CATEGORIES:Hudźba
ATTACH;FMTTYPE=image/jpeg:https://serbski-kucik.de/wp-content/uploads/2023/11/serbiski-kucik_Natočene.jpg
END:VEVENT
END:VCALENDAR