BEGIN:VCALENDAR
VERSION:2.0
PRODID:-//serbski-kucik.de - ECPv4.9.14//NONSGML v1.0//EN
CALSCALE:GREGORIAN
METHOD:PUBLISH
X-WR-CALNAME:serbski-kucik.de
X-ORIGINAL-URL:https://serbski-kucik.de
X-WR-CALDESC:Veranstaltungen für serbski-kucik.de
BEGIN:VTIMEZONE
TZID:Europe/Berlin
BEGIN:DAYLIGHT
TZOFFSETFROM:+0100
TZOFFSETTO:+0200
TZNAME:CEST
DTSTART:20230326T010000
END:DAYLIGHT
BEGIN:STANDARD
TZOFFSETFROM:+0200
TZOFFSETTO:+0100
TZNAME:CET
DTSTART:20231029T010000
END:STANDARD
END:VTIMEZONE
BEGIN:VEVENT
DTSTART;TZID=Europe/Berlin:20230916T173000
DTEND;TZID=Europe/Berlin:20230916T235900
DTSTAMP:20260421T140247
CREATED:20231031T110442Z
LAST-MODIFIED:20231031T110458Z
UID:2372-1694885400-1694908740@serbski-kucik.de
SUMMARY:Beer Pong turněr
DESCRIPTION:17:30 hodź. – přizjewić\n18:00 hodź. – start turněra \n10 € startowy fenk na mustwo \nPřizjewjenja mustwow přez intagram @Radworske \n  \n
URL:https://serbski-kucik.de/event/beer-pong-turner/
CATEGORIES:Młodźina
ATTACH;FMTTYPE=image/jpeg:https://serbski-kucik.de/wp-content/uploads/2023/10/20230916.jpg
END:VEVENT
END:VCALENDAR