BEGIN:VCALENDAR
VERSION:2.0
PRODID:-//serbski-kucik.de - ECPv4.9.14//NONSGML v1.0//EN
CALSCALE:GREGORIAN
METHOD:PUBLISH
X-WR-CALNAME:serbski-kucik.de
X-ORIGINAL-URL:https://serbski-kucik.de
X-WR-CALDESC:Veranstaltungen für serbski-kucik.de
BEGIN:VTIMEZONE
TZID:Europe/Berlin
BEGIN:DAYLIGHT
TZOFFSETFROM:+0100
TZOFFSETTO:+0200
TZNAME:CEST
DTSTART:20200329T010000
END:DAYLIGHT
BEGIN:STANDARD
TZOFFSETFROM:+0200
TZOFFSETTO:+0100
TZNAME:CET
DTSTART:20201025T010000
END:STANDARD
END:VTIMEZONE
BEGIN:VEVENT
DTSTART;TZID=Europe/Berlin:20200412T114500
DTEND;TZID=Europe/Berlin:20200412T134500
DTSTAMP:20260424T122637
CREATED:20200320T152435Z
LAST-MODIFIED:20200330T071354Z
UID:523-1586691900-1586699100@serbski-kucik.de
SUMMARY:Baćon na Radwor
DESCRIPTION:\nwotprajene\n11.45 – 13.45 hodź\nBaćon\, Haslow\, Łahow\, Zarěč\, Króńca\, Łuh\, Chasow\, Radwor\nPuć wróćo: 15.30 – 17.30 hodź\nRadwor\, Čorny Hodler\, Miłkecy\, Stróžišćo\, Haslow\, Baćon \n
URL:https://serbski-kucik.de/event/bacon-na-radwor/
CATEGORIES:Nabožina
ATTACH;FMTTYPE=image/jpeg:https://serbski-kucik.de/wp-content/uploads/2020/03/Storcha.jpg
END:VEVENT
END:VCALENDAR