BEGIN:VCALENDAR
VERSION:2.0
PRODID:-//serbski-kucik.de - ECPv4.9.14//NONSGML v1.0//EN
CALSCALE:GREGORIAN
METHOD:PUBLISH
X-WR-CALNAME:serbski-kucik.de
X-ORIGINAL-URL:https://serbski-kucik.de
X-WR-CALDESC:Veranstaltungen für serbski-kucik.de
BEGIN:VTIMEZONE
TZID:Europe/Berlin
BEGIN:DAYLIGHT
TZOFFSETFROM:+0100
TZOFFSETTO:+0200
TZNAME:CEST
DTSTART:20230326T010000
END:DAYLIGHT
BEGIN:STANDARD
TZOFFSETFROM:+0200
TZOFFSETTO:+0100
TZNAME:CET
DTSTART:20231029T010000
END:STANDARD
END:VTIMEZONE
BEGIN:VEVENT
DTSTART;TZID=Europe/Berlin:20231216T140000
DTEND;TZID=Europe/Berlin:20231216T180000
DTSTAMP:20260424T000922
CREATED:20231205T162925Z
LAST-MODIFIED:20231205T162925Z
UID:2926-1702735200-1702749600@serbski-kucik.de
SUMMARY:Adventsmarkt
DESCRIPTION:\nPlätzchen verzieren für Kinder\nsüße & herzhafte Speisen\nheiße Getränke\nVerkaufsstände mit handgemachten & regionalen Produkten\nuvm. \n
URL:https://serbski-kucik.de/event/adventsmarkt/
CATEGORIES:Kultura
ATTACH;FMTTYPE=image/png:https://serbski-kucik.de/wp-content/uploads/2023/12/Unbenannt1.png
END:VEVENT
END:VCALENDAR