BEGIN:VCALENDAR
VERSION:2.0
PRODID:-//serbski-kucik.de - ECPv4.9.14//NONSGML v1.0//EN
CALSCALE:GREGORIAN
METHOD:PUBLISH
X-WR-CALNAME:serbski-kucik.de
X-ORIGINAL-URL:https://serbski-kucik.de
X-WR-CALDESC:Veranstaltungen für serbski-kucik.de
BEGIN:VTIMEZONE
TZID:Europe/Berlin
BEGIN:DAYLIGHT
TZOFFSETFROM:+0100
TZOFFSETTO:+0200
TZNAME:CEST
DTSTART:20250330T010000
END:DAYLIGHT
BEGIN:STANDARD
TZOFFSETFROM:+0200
TZOFFSETTO:+0100
TZNAME:CET
DTSTART:20251026T010000
END:STANDARD
END:VTIMEZONE
BEGIN:VEVENT
DTSTART;TZID=Europe/Berlin:20250531T200000
DTEND;TZID=Europe/Berlin:20250531T233000
DTSTAMP:20260422T154340
CREATED:20250519T092005Z
LAST-MODIFIED:20250519T092022Z
UID:3469-1748721600-1748734200@serbski-kucik.de
SUMMARY:Tokanske reje - Balztanz
DESCRIPTION: \nPo dnju muži je do tokanskich rejow!\nZ tokanskemi rejemi my hisće jedyn horje połožimy! 6 lět dźělenja wot našeje lubowaneje party tola nětkole je wona zaso wróćo – ekskluziwnje za was!\n31. meje stanje so Konječanski gmejnski dwór z rejowym arealom:\nWot 20 hodź. wočakuja was 2 arealaj– Techno & core\, tučne beaty\, słódna jědź\, zymne drinki a njezapomnite nócne vibes. \nZastup: 6 €– a kóždy cent hódny!\nŠtóž chce rejować\, přińdźe – štóž chce swjećić\, wostanje. \n  \nNach Männertag ist vor Balztanz– wir legen nach! 6 Jahre Trennung von unserer geliebten Party doch sie ist für euch wieder zurück!\nAm 31. Mai wird der Cunnewitzer Gemeindehof zur Feierzone:\nAb 20 Uhr erwarten euch 2 Stages – Techno & House\, fette Beats\, leckeres Essen\, kalte Drinks und pure Nachtvibes. \nEintritt: 6€ – und jeden Cent wert!\nWer tanzen will\, kommt – wer feiern will\, bleibt. \n
URL:https://serbski-kucik.de/event/3469/
CATEGORIES:Młodźina
ATTACH;FMTTYPE=image/jpeg:https://serbski-kucik.de/wp-content/uploads/2025/05/tokanske-reje_Konjecy.jpeg
END:VEVENT
END:VCALENDAR