BEGIN:VCALENDAR
VERSION:2.0
PRODID:-//serbski-kucik.de - ECPv4.9.14//NONSGML v1.0//EN
CALSCALE:GREGORIAN
METHOD:PUBLISH
X-WR-CALNAME:serbski-kucik.de
X-ORIGINAL-URL:https://serbski-kucik.de
X-WR-CALDESC:Veranstaltungen für serbski-kucik.de
BEGIN:VTIMEZONE
TZID:Europe/Berlin
BEGIN:DAYLIGHT
TZOFFSETFROM:+0100
TZOFFSETTO:+0200
TZNAME:CEST
DTSTART:20250330T010000
END:DAYLIGHT
BEGIN:STANDARD
TZOFFSETFROM:+0200
TZOFFSETTO:+0100
TZNAME:CET
DTSTART:20251026T010000
END:STANDARD
END:VTIMEZONE
BEGIN:VEVENT
DTSTART;TZID=Europe/Berlin:20250404T170000
DTEND;TZID=Europe/Berlin:20250404T183000
DTSTAMP:20260421T050553
CREATED:20250402T093318Z
LAST-MODIFIED:20250402T093718Z
UID:3394-1743786000-1743791400@serbski-kucik.de
SUMMARY:Purpurčerjwene a pisane
DESCRIPTION: \nPurpurčerwjene a pisane – Tradicionelne serbske jutrowne jejka \nZajimuješ so za debjenje serbskich jutrownych jejkow a njewěš što so za powěsćemi a symbolemi na serbskim jejce chowa? \nPřeprošujemy će na zajimawy přednošk na temu „Purpurčerwjene a pisane. Tradicionelne serbske jutrowne jejka“\, pjatk\, dnja 4.4.2025\, w 17 hodźin\, na bywše Radworske dwórnišćo. Přednošuje A. Pawlikowa \nSobotu\, dnja 5.4. debimy wot 10ćich zhromadnje jutrowne jejka. Chceš-li so na debjenju wobdźělić\, so prošu přizjew!\nProšu přinjesće sej wudute jejko a pjerka sobu. \n  \nPurpurrot und kunterbunt – Traditionelle sorbische Ostereier \nDu interessierst dich für das Verzieren sorbischer Ostereier und weißt nicht\, welche Botschaft sich auf dem Ei\, in den Symbolen verbirgt? \nWir laden dich herzlich zum Thema „Purpurrot und kunterbunt. Traditionelle sorbische Ostereier“\, einem Vortrag am 4.4.2025\, um 17 Uhr\, auf den Bahnhof der Inklusion in Radibor ein. Vortrag von A. Paulik \nAm 5.4.2025 könnt ihr euch ab 10 Uhr selbst im Verzieren probieren. Für den Workshop melde dich bitte vorab an!\nBitte mitbringen: ein ausgeblasenes Ei und Federn \n  \nAnmeldungen unter info@bahnhof-radibor.de \n
URL:https://serbski-kucik.de/event/3394/2025-04-04/
CATEGORIES:Kultura
ATTACH;FMTTYPE=image/jpeg:https://serbski-kucik.de/wp-content/uploads/2025/04/Purpurcerwjene-a-pisane.jpg
END:VEVENT
END:VCALENDAR