BEGIN:VCALENDAR
VERSION:2.0
PRODID:-//serbski-kucik.de - ECPv4.9.14//NONSGML v1.0//EN
CALSCALE:GREGORIAN
METHOD:PUBLISH
X-WR-CALNAME:serbski-kucik.de
X-ORIGINAL-URL:https://serbski-kucik.de
X-WR-CALDESC:Veranstaltungen für serbski-kucik.de
BEGIN:VTIMEZONE
TZID:Europe/Berlin
BEGIN:DAYLIGHT
TZOFFSETFROM:+0100
TZOFFSETTO:+0200
TZNAME:CEST
DTSTART:20230326T010000
END:DAYLIGHT
BEGIN:STANDARD
TZOFFSETFROM:+0200
TZOFFSETTO:+0100
TZNAME:CET
DTSTART:20231029T010000
END:STANDARD
END:VTIMEZONE
BEGIN:VEVENT
DTSTART;TZID=Europe/Berlin:20231125T000000
DTEND;TZID=Europe/Berlin:20231125T000000
DTSTAMP:20260420T150116
CREATED:20231101T105232Z
LAST-MODIFIED:20231101T190529Z
UID:2446-1700870400-1700870400@serbski-kucik.de
SUMMARY:149. Schadźowanka
DESCRIPTION: \nBórze je zaso tak daloko a móžemy so na 149. schadźowanku wjeselić. Kaž hižo loni předawaja so tikety přez Eventim a maće tež hnydom móžnosć sej najlubše městno wupytać. Link k tiketam namakaće potom na internetowej stronje załožby abo tu w našej bio. \nWjeselimy so na was! \n***\nBald ist es wieder so weit und wir können uns auf die 149. Schadźowanka freuen. Wie schon im vergangenen Jahr werden die Tickets über Eventim verkauft und dabei haben Sie auch gleich die Möglichkeit sich einen Lieblingsplatz auszusuchen. Den Link zum Ticketshop finden Sie dann auf der Internetseite der Stiftung oder hier in unserer Bio. \nWir freuen uns auf euch. \n
URL:https://serbski-kucik.de/event/149-schadzowanka/
CATEGORIES:Kultura
ATTACH;FMTTYPE=image/jpeg:https://serbski-kucik.de/wp-content/uploads/2023/11/serbiski-kucik_149.Schadzowanke.jpeg
END:VEVENT
END:VCALENDAR